BEGIN:VCALENDAR
VERSION:2.0
PRODID:-//InspHigher - ECPv6.15.20//NONSGML v1.0//EN
CALSCALE:GREGORIAN
METHOD:PUBLISH
X-ORIGINAL-URL:https://www.insphigher.co.uk
X-WR-CALDESC:Events for InspHigher
REFRESH-INTERVAL;VALUE=DURATION:PT1H
X-Robots-Tag:noindex
X-PUBLISHED-TTL:PT1H
BEGIN:VTIMEZONE
TZID:Europe/London
BEGIN:DAYLIGHT
TZOFFSETFROM:+0000
TZOFFSETTO:+0100
TZNAME:BST
DTSTART:20240331T010000
END:DAYLIGHT
BEGIN:STANDARD
TZOFFSETFROM:+0100
TZOFFSETTO:+0000
TZNAME:GMT
DTSTART:20241027T010000
END:STANDARD
BEGIN:DAYLIGHT
TZOFFSETFROM:+0000
TZOFFSETTO:+0100
TZNAME:BST
DTSTART:20250330T010000
END:DAYLIGHT
BEGIN:STANDARD
TZOFFSETFROM:+0100
TZOFFSETTO:+0000
TZNAME:GMT
DTSTART:20251026T010000
END:STANDARD
BEGIN:DAYLIGHT
TZOFFSETFROM:+0000
TZOFFSETTO:+0100
TZNAME:BST
DTSTART:20260329T010000
END:DAYLIGHT
BEGIN:STANDARD
TZOFFSETFROM:+0100
TZOFFSETTO:+0000
TZNAME:GMT
DTSTART:20261025T010000
END:STANDARD
END:VTIMEZONE
BEGIN:VEVENT
DTSTART;VALUE=DATE:20251216
DTEND;VALUE=DATE:20251218
DTSTAMP:20260423T140619
CREATED:20250108T163016Z
LAST-MODIFIED:20250622T103156Z
UID:10000274-1765843200-1766015999@www.insphigher.co.uk
SUMMARY:Advanced Appointed Person and Refresher Course - Dec 2025
DESCRIPTION:OVERVIEW\nIt can be difficult to retain ALL of the information you learn and need to know as an Appointed Person/Lift Planner – particularly if you’re not putting it into practice regularly. Even if you are using it regularly\, you may find you come up against limitations with the information you’ve learned and your existing knowledge. \nThis course will help you with all of that. With a refresher of some of the basic technical elements\, then building on that with some more advanced methods\, as well as helping you to communicate more effectively with your clients\, colleagues\, managers and lifting team\, you will leave this course feeling more empowered and capable as a Lifting Operations Planner. \n  \nWHO IS THIS FOR?\nThose who are\, or have been\, qualified or active in a lifting operations planning role\, are looking to improve their lift planning knowledge and/or those who are responsible for overseeing lifting operations activities in their place of work. \nCandidates must have a functional understanding of basic lift planning practices (such as Uniform Load Method\, calculating sling length\, referring to load charts\, etc.) prior to attending. \n  \nCONTENT\n\nLoad Weight Calculation\nSling Length for Unbalanced (Asymmetrical) Loads\nLoad Centre of Gravity\nShare of Load (between slings or multiple cranes)\nAccurate Sling Tension for Unbalanced Loads (Trigonometrical Method of Rating)\nSpreader Beam Stability\nUtilisation of Lifting Capacity (Percentage)\nWind Speed Calculations (Mobile Cranes)\nEffective Communication\n\n  \nMETHOD OF DELIVERY\nThis is an online course delivered over video conference.
URL:https://www.insphigher.co.uk/event/advanced-appointed-person-refresher-16-dec/
ORGANIZER;CN="InspHigher":MAILTO:kevinb@insphigher.co.uk
LOCATION:
END:VEVENT
BEGIN:VEVENT
DTSTART;VALUE=DATE:20251101
DTEND;VALUE=DATE:20251103
DTSTAMP:20260423T140619
CREATED:20250108T161648Z
LAST-MODIFIED:20250622T103152Z
UID:10000273-1761955200-1762127999@www.insphigher.co.uk
SUMMARY:Advanced Appointed Person and Refresher Course - Nov 2025
DESCRIPTION:OVERVIEW\nIt can be difficult to retain ALL of the information you learn and need to know as an Appointed Person/Lift Planner – particularly if you’re not putting it into practice regularly. Even if you are using it regularly\, you may find you come up against limitations with the information you’ve learned and your existing knowledge. \nThis course will help you with all of that. With a refresher of some of the basic technical elements\, then building on that with some more advanced methods\, as well as helping you to communicate more effectively with your clients\, colleagues\, managers and lifting team\, you will leave this course feeling more empowered and capable as a Lifting Operations Planner. \n  \nWHO IS THIS FOR?\nThose who are\, or have been\, qualified or active in a lifting operations planning role\, are looking to improve their lift planning knowledge and/or those who are responsible for overseeing lifting operations activities in their place of work. \nCandidates must have a functional understanding of basic lift planning practices (such as Uniform Load Method\, calculating sling length\, referring to load charts\, etc.) prior to attending. \n  \nCONTENT\n\nLoad Weight Calculation\nSling Length for Unbalanced (Asymmetrical) Loads\nLoad Centre of Gravity\nShare of Load (between slings or multiple cranes)\nAccurate Sling Tension for Unbalanced Loads (Trigonometrical Method of Rating)\nSpreader Beam Stability\nUtilisation of Lifting Capacity (Percentage)\nWind Speed Calculations (Mobile Cranes)\nEffective Communication\n\n  \nMETHOD OF DELIVERY\nThis is an online course delivered over video conference.
URL:https://www.insphigher.co.uk/event/advanced-appointed-person-refresher-1-nov/
ORGANIZER;CN="InspHigher":MAILTO:kevinb@insphigher.co.uk
LOCATION:
END:VEVENT
BEGIN:VEVENT
DTSTART;VALUE=DATE:20250930
DTEND;VALUE=DATE:20251002
DTSTAMP:20260423T140619
CREATED:20250108T161600Z
LAST-MODIFIED:20250622T103150Z
UID:10000272-1759190400-1759363199@www.insphigher.co.uk
SUMMARY:Advanced Appointed Person and Refresher Course - Sept 2025
DESCRIPTION:OVERVIEW\nIt can be difficult to retain ALL of the information you learn and need to know as an Appointed Person/Lift Planner – particularly if you’re not putting it into practice regularly. Even if you are using it regularly\, you may find you come up against limitations with the information you’ve learned and your existing knowledge. \nThis course will help you with all of that. With a refresher of some of the basic technical elements\, then building on that with some more advanced methods\, as well as helping you to communicate more effectively with your clients\, colleagues\, managers and lifting team\, you will leave this course feeling more empowered and capable as a Lifting Operations Planner. \n  \nWHO IS THIS FOR?\nThose who are\, or have been\, qualified or active in a lifting operations planning role\, are looking to improve their lift planning knowledge and/or those who are responsible for overseeing lifting operations activities in their place of work. \nCandidates must have a functional understanding of basic lift planning practices (such as Uniform Load Method\, calculating sling length\, referring to load charts\, etc.) prior to attending. \n  \nCONTENT\n\nLoad Weight Calculation\nSling Length for Unbalanced (Asymmetrical) Loads\nLoad Centre of Gravity\nShare of Load (between slings or multiple cranes)\nAccurate Sling Tension for Unbalanced Loads (Trigonometrical Method of Rating)\nSpreader Beam Stability\nUtilisation of Lifting Capacity (Percentage)\nWind Speed Calculations (Mobile Cranes)\nEffective Communication\n\n  \nMETHOD OF DELIVERY\nThis is an online course delivered over video conference.
URL:https://www.insphigher.co.uk/event/advanced-appointed-person-refresher-30-sep/
ORGANIZER;CN="InspHigher":MAILTO:kevinb@insphigher.co.uk
LOCATION:
END:VEVENT
BEGIN:VEVENT
DTSTART;VALUE=DATE:20250826
DTEND;VALUE=DATE:20250828
DTSTAMP:20260423T140619
CREATED:20250108T161507Z
LAST-MODIFIED:20250622T103044Z
UID:10000271-1756166400-1756339199@www.insphigher.co.uk
SUMMARY:Advanced Appointed Person and Refresher Course - Aug 2025
DESCRIPTION:OVERVIEW\nIt can be difficult to retain ALL of the information you learn and need to know as an Appointed Person/Lift Planner – particularly if you’re not putting it into practice regularly. Even if you are using it regularly\, you may find you come up against limitations with the information you’ve learned and your existing knowledge. \nThis course will help you with all of that. With a refresher of some of the basic technical elements\, then building on that with some more advanced methods\, as well as helping you to communicate more effectively with your clients\, colleagues\, managers and lifting team\, you will leave this course feeling more empowered and capable as a Lifting Operations Planner. \n  \nWHO IS THIS FOR?\nThose who are\, or have been\, qualified or active in a lifting operations planning role\, are looking to improve their lift planning knowledge and/or those who are responsible for overseeing lifting operations activities in their place of work. \nCandidates must have a functional understanding of basic lift planning practices (such as Uniform Load Method\, calculating sling length\, referring to load charts\, etc.) prior to attending. \n  \nCONTENT\n\nLoad Weight Calculation\nSling Length for Unbalanced (Asymmetrical) Loads\nLoad Centre of Gravity\nShare of Load (between slings or multiple cranes)\nAccurate Sling Tension for Unbalanced Loads (Trigonometrical Method of Rating)\nSpreader Beam Stability\nUtilisation of Lifting Capacity (Percentage)\nWind Speed Calculations (Mobile Cranes)\nEffective Communication\n\n  \nMETHOD OF DELIVERY\nThis is an online course delivered over video conference.
URL:https://www.insphigher.co.uk/event/advanced-appointed-person-refresher-26-august/
ORGANIZER;CN="InspHigher":MAILTO:kevinb@insphigher.co.uk
LOCATION:
END:VEVENT
BEGIN:VEVENT
DTSTART;VALUE=DATE:20250719
DTEND;VALUE=DATE:20250721
DTSTAMP:20260423T140619
CREATED:20250108T161052Z
LAST-MODIFIED:20250622T114826Z
UID:10000270-1752883200-1753055999@www.insphigher.co.uk
SUMMARY:Advanced Appointed Person and Refresher Course - Jul 2025
DESCRIPTION:OVERVIEW\nIt can be difficult to retain ALL of the information you learn and need to know as an Appointed Person/Lift Planner – particularly if you’re not putting it into practice regularly. Even if you are using it regularly\, you may find you come up against limitations with the information you’ve learned and your existing knowledge. \nThis course will help you with all of that. With a refresher of some of the basic technical elements\, then building on that with some more advanced methods\, as well as helping you to communicate more effectively with your clients\, colleagues\, managers and lifting team\, you will leave this course feeling more empowered and capable as a Lifting Operations Planner. \n  \nWHO IS THIS FOR?\nThose who are\, or have been\, qualified or active in a lifting operations planning role\, are looking to improve their lift planning knowledge and/or those who are responsible for overseeing lifting operations activities in their place of work. \nCandidates must have a functional understanding of basic lift planning practices (such as Uniform Load Method\, calculating sling length\, referring to load charts\, etc.) prior to attending. \n  \nCONTENT\n\nLoad Weight Calculation\nSling Length for Unbalanced (Asymmetrical) Loads\nLoad Centre of Gravity\nShare of Load (between slings or multiple cranes)\nAccurate Sling Tension for Unbalanced Loads (Trigonometrical Method of Rating)\nSpreader Beam Stability\nUtilisation of Lifting Capacity (Percentage)\nWind Speed Calculations (Mobile Cranes)\nEffective Communication\n\n  \nMETHOD OF DELIVERY\nThis is an online course delivered over video conference.
URL:https://www.insphigher.co.uk/event/advanced-appointed-person-refresher-19-july/
ORGANIZER;CN="InspHigher":MAILTO:kevinb@insphigher.co.uk
LOCATION:
END:VEVENT
BEGIN:VEVENT
DTSTART;VALUE=DATE:20250610
DTEND;VALUE=DATE:20250612
DTSTAMP:20260423T140619
CREATED:20250108T160937Z
LAST-MODIFIED:20250527T142616Z
UID:10000269-1749513600-1749686399@www.insphigher.co.uk
SUMMARY:Advanced Appointed Person and Refresher Course - Jun 2025
DESCRIPTION:OVERVIEW\nIt can be difficult to retain ALL of the information you learn and need to know as an Appointed Person/Lift Planner – particularly if you’re not putting it into practice regularly. Even if you are using it regularly\, you may find you come up against limitations with the information you’ve learned and your existing knowledge. \nThis course will help you with all of that. With a refresher of some of the basic technical elements\, then building on that with some more advanced methods\, as well as helping you to communicate more effectively with your clients\, colleagues\, managers and lifting team\, you will leave this course feeling more empowered and capable as a Lifting Operations Planner. \n  \nWHO IS THIS FOR?\nThose who are\, or have been\, qualified or active in a lifting operations planning role\, are looking to improve their lift planning knowledge and/or those who are responsible for overseeing lifting operations activities in their place of work. \nCandidates must have a functional understanding of basic lift planning practices (such as Uniform Load Method\, calculating sling length\, referring to load charts\, etc.) prior to attending. \n  \nCONTENT\n\nLoad Weight Calculation\nSling Length for Unbalanced (Asymmetrical) Loads\nLoad Centre of Gravity\nShare of Load (between slings or multiple cranes)\nAccurate Sling Tension for Unbalanced Loads (Trigonometrical Method of Rating)\nSpreader Beam Stability\nUtilisation of Lifting Capacity (Percentage)\nWind Speed Calculations (Mobile Cranes)\nEffective Communication\n\n  \nMETHOD OF DELIVERY\nThis is an online course delivered over video conference.
URL:https://www.insphigher.co.uk/event/advanced-appointed-person-refresher-10-june/
ORGANIZER;CN="InspHigher":MAILTO:kevinb@insphigher.co.uk
LOCATION:
END:VEVENT
BEGIN:VEVENT
DTSTART;VALUE=DATE:20250426
DTEND;VALUE=DATE:20250428
DTSTAMP:20260423T140619
CREATED:20250108T160858Z
LAST-MODIFIED:20250310T104009Z
UID:10000268-1745625600-1745798399@www.insphigher.co.uk
SUMMARY:Advanced Appointed Person and Refresher Course - Apr 2025
DESCRIPTION:OVERVIEW\nIt can be difficult to retain ALL of the information you learn and need to know as an Appointed Person/Lift Planner – particularly if you’re not putting it into practice regularly. Even if you are using it regularly\, you may find you come up against limitations with the information you’ve learned and your existing knowledge. \nThis course will help you with all of that. With a refresher of some of the basic technical elements\, then building on that with some more advanced methods\, as well as helping you to communicate more effectively with your clients\, colleagues\, managers and lifting team\, you will leave this course feeling more empowered and capable as a Lifting Operations Planner. \n  \nWHO IS THIS FOR?\nThose who are\, or have been\, qualified or active in a lifting operations planning role\, are looking to improve their lift planning knowledge and/or those who are responsible for overseeing lifting operations activities in their place of work. \nCandidates must have a functional understanding of basic lift planning practices (such as Uniform Load Method\, calculating sling length\, referring to load charts\, etc.) prior to attending. \n  \nCONTENT\n\nLoad Weight Calculation\nSling Length for Unbalanced (Asymmetrical) Loads\nLoad Centre of Gravity\nShare of Load (between slings or multiple cranes)\nAccurate Sling Tension for Unbalanced Loads (Trigonometrical Method of Rating)\nSpreader Beam Stability\nUtilisation of Lifting Capacity (Percentage)\nWind Speed Calculations (Mobile Cranes)\nEffective Communication\n\n  \nMETHOD OF DELIVERY\nThis is an online course delivered over video conference.
URL:https://www.insphigher.co.uk/event/advanced-appointed-person-refresher-26-april/
ATTACH;FMTTYPE=image/jpeg:https://www.insphigher.co.uk/wp-content/uploads/2025/01/advanced-course.jpg
ORGANIZER;CN="InspHigher":MAILTO:kevinb@insphigher.co.uk
LOCATION:
END:VEVENT
BEGIN:VEVENT
DTSTART;VALUE=DATE:20250318
DTEND;VALUE=DATE:20250320
DTSTAMP:20260423T140619
CREATED:20250108T121638Z
LAST-MODIFIED:20250310T111134Z
UID:10000265-1742256000-1742428799@www.insphigher.co.uk
SUMMARY:Advanced Appointed Person and Refresher Course - Mar 2025
DESCRIPTION:OVERVIEW\nIt can be difficult to retain ALL of the information you learn and need to know as an Appointed Person/Lift Planner – particularly if you’re not putting it into practice regularly. Even if you are using it regularly\, you may find you come up against limitations with the information you’ve learned and your existing knowledge. \nThis course will help you with all of that. With a refresher of some of the basic technical elements\, then building on that with some more advanced methods\, as well as helping you to communicate more effectively with your clients\, colleagues\, managers and lifting team\, you will leave this course feeling more empowered and capable as a Lifting Operations Planner. \n  \nWHO IS THIS FOR?\nThose who are\, or have been\, qualified or active in a lifting operations planning role\, are looking to improve their lift planning knowledge and/or those who are responsible for overseeing lifting operations activities in their place of work. \nCandidates must have a functional understanding of basic lift planning practices (such as Uniform Load Method\, calculating sling length\, referring to load charts\, etc.) prior to attending. \n  \nCONTENT\n\nLoad Weight Calculation\nSling Length for Unbalanced (Asymmetrical) Loads\nLoad Centre of Gravity\nShare of Load (between slings or multiple cranes)\nAccurate Sling Tension for Unbalanced Loads (Trigonometrical Method of Rating)\nSpreader Beam Stability\nUtilisation of Lifting Capacity (Percentage)\nWind Speed Calculations (Mobile Cranes)\nEffective Communication\n\n  \nMETHOD OF DELIVERY\nThis is an online course delivered over video conference.
URL:https://www.insphigher.co.uk/event/advanced-appointed-person-refresher/
ATTACH;FMTTYPE=image/jpeg:https://www.insphigher.co.uk/wp-content/uploads/2025/01/advanced-course.jpg
ORGANIZER;CN="InspHigher":MAILTO:kevinb@insphigher.co.uk
LOCATION:
END:VEVENT
END:VCALENDAR